-0.00000000000000
-0.09000000000000
-0.09000000000000
0.00000000000000
697914.84307503444000
267508.03026812017000
