-0.00000000000000
-0.09000000000000
-0.09000000000000
0.00000000000000
697912.84307503444000
268141.03026812017000
