-0.00000000000000
-0.09000000000000
-0.09000000000000
0.00000000000000
697920.84307503444000
273362.03026812017000
