0.00000000000000
0.09000000000000
0.09000000000000
-0.00000000000000
695212.15692496556000
256943.96973187980000
