0.00000000000000
0.09000000000000
0.09000000000000
-0.00000000000000
695224.15692496556000
261531.96973187980000
