0.00000000000000
0.09000000000000
0.09000000000000
-0.00000000000000
695232.15692496556000
262924.96973187983000
