0.00000000000000
0.09000000000000
0.09000000000000
-0.00000000000000
695236.15692496556000
263611.96973187983000
