0.00000000000000
0.09000000000000
0.09000000000000
-0.00000000000000
695208.15692496556000
268211.96973187983000
