0.00000000000000
0.09000000000000
0.09000000000000
-0.00000000000000
695216.15692496556000
272596.96973187983000
