0.00000000000000
0.09000000000000
0.09000000000000
-0.00000000000000
695240.15692496556000
276533.96973187983000
