-0.00000000000000
-0.09000000000000
-0.09000000000000
0.00000000000000
695723.84307503444000
252431.03026812020000
