-0.00000000000000
-0.09000000000000
-0.09000000000000
0.00000000000000
695746.84307503444000
256074.03026812020000
