-0.00000000000000
-0.09000000000000
-0.09000000000000
0.00000000000000
695763.84307503444000
260256.03026812020000
