-0.00000000000000
-0.09000000000000
-0.09000000000000
0.00000000000000
695761.84307503444000
268217.03026812017000
