-0.00000000000000
-0.09000000000000
-0.09000000000000
0.00000000000000
695756.84307503444000
272576.03026812017000
