0.00000000000000
0.09000000000000
0.09000000000000
-0.00000000000000
693044.15692496556000
252390.96973187980000
