0.00000000000000
0.09000000000000
0.09000000000000
-0.00000000000000
693052.15692496556000
253616.96973187980000
