0.00000000000000
0.09000000000000
0.09000000000000
-0.00000000000000
693054.15692496556000
256581.96973187980000
