0.00000000000000
0.09000000000000
0.09000000000000
-0.00000000000000
693070.15692496556000
260609.96973187980000
