0.00000000000000
0.09000000000000
0.09000000000000
-0.00000000000000
693072.15692496556000
262464.96973187983000
