0.00000000000000
0.09000000000000
0.09000000000000
-0.00000000000000
693066.15692496556000
266483.96973187983000
