0.00000000000000
0.09000000000000
0.09000000000000
-0.00000000000000
693058.15692496556000
267185.96973187983000
