0.00000000000000
0.09000000000000
0.09000000000000
-0.00000000000000
693068.15692496556000
269916.96973187983000
