0.00000000000000
0.09000000000000
0.09000000000000
-0.00000000000000
693060.15692496556000
272956.96973187983000
