-0.00000000000000
-0.09000000000000
-0.09000000000000
0.00000000000000
693550.84307503444000
257950.03026812020000
