-0.00000000000000
-0.09000000000000
-0.09000000000000
0.00000000000000
693587.84307503444000
265294.03026812017000
