-0.00000000000000
-0.09000000000000
-0.09000000000000
0.00000000000000
693551.84307503444000
269390.03026812017000
