-0.00000000000000
-0.09000000000000
-0.09000000000000
0.00000000000000
693555.84307503444000
270060.03026812017000
