-0.00000000000000
-0.09000000000000
-0.09000000000000
0.00000000000000
693563.84307503444000
272763.03026812017000
