-0.00000000000000
-0.09000000000000
-0.09000000000000
0.00000000000000
693588.84307503444000
278210.03026812017000
