-0.00000000000000
-0.09000000000000
-0.09000000000000
0.00000000000000
693575.84307503444000
280124.03026812017000
