0.00000000000000
0.09000000000000
0.09000000000000
-0.00000000000000
690828.15692496556000
251810.96973187980000
