0.00000000000000
0.09000000000000
0.09000000000000
-0.00000000000000
690831.15692496556000
253209.96973187980000
