0.00000000000000
0.09000000000000
0.09000000000000
-0.00000000000000
690834.15692496556000
259189.96973187980000
