0.00000000000000
0.09000000000000
0.09000000000000
-0.00000000000000
690858.15692496556000
262453.96973187983000
