0.00000000000000
0.09000000000000
0.09000000000000
-0.00000000000000
690834.15692496556000
269862.96973187983000
