-0.00000000000000
-0.09000000000000
-0.09000000000000
0.00000000000000
691394.84307503444000
254930.03026812020000
