-0.00000000000000
-0.09000000000000
-0.09000000000000
0.00000000000000
691399.84307503444000
256860.03026812020000
