-0.00000000000000
-0.09000000000000
-0.09000000000000
0.00000000000000
691411.84307503444000
259365.03026812020000
