-0.00000000000000
-0.09000000000000
-0.09000000000000
0.00000000000000
691416.84307503444000
263679.03026812017000
