-0.00000000000000
-0.09000000000000
-0.09000000000000
0.00000000000000
691432.84307503444000
265740.03026812017000
