-0.00000000000000
-0.09000000000000
-0.09000000000000
0.00000000000000
691424.84307503444000
266942.03026812017000
