-0.00000000000000
-0.09000000000000
-0.09000000000000
0.00000000000000
691404.84307503444000
268670.03026812017000
