-0.00000000000000
-0.09000000000000
-0.09000000000000
0.00000000000000
691406.84307503444000
269890.03026812017000
