-0.00000000000000
-0.09000000000000
-0.09000000000000
0.00000000000000
691407.84307503444000
272389.03026812017000
