-0.00000000000000
-0.09000000000000
-0.09000000000000
0.00000000000000
691426.84307503444000
277193.03026812017000
