-0.00000000000000
-0.09000000000000
-0.09000000000000
0.00000000000000
691429.84307503444000
277765.03026812017000
