-0.00000000000000
-0.09000000000000
-0.09000000000000
0.00000000000000
691446.84307503444000
284444.03026812017000
