0.00000000000000
0.09000000000000
0.09000000000000
-0.00000000000000
688636.15692496556000
250388.96973187980000
