0.00000000000000
0.09000000000000
0.09000000000000
-0.00000000000000
688667.15692496556000
254656.96973187980000
